BEGIN:VCALENDAR
PRODID:-//Calendar export
VERSION:2.0
X-WR-TIMEZONE:Etc/GMT
BEGIN:VTIMEZONE
TZID:GMT Standard Time
BEGIN:STANDARD
TZOFFSETFROM:+0000
TZOFFSETTO:+0000
END:STANDARD
END:VTIMEZONE
BEGIN:VEVENT
UID:AE223
DTSTAMP:20260423T171800Z
SUMMARY:Assemblea regionale Confcooperative Federsolidarietà
CLASS:PUBLIC
DESCRIPTION:
STATUS:CONFIRMED
PRIORITY:1
DTSTART:20260507T070000Z
DTEND:20260507T143000Z
TRANSP:OPAQUE
END:VEVENT
END:VCALENDAR
